BEGIN:VCALENDAR
VERSION:2.0
PRODID:icalendar-ruby
CALSCALE:GREGORIAN
METHOD:PUBLISH
BEGIN:VEVENT
DTSTAMP:20260425T040414Z
UID:164-537856@countryside-church.org
DTSTART:20261020T230000Z
DTEND:20261021T000000Z
CLASS:PUBLIC
CREATED:20260424T205227
DESCRIPTION:
LAST-MODIFIED:20260424T205227
LOCATION:Zoom link in our calendar
SUMMARY:Bible Study
URL;VALUE=URI:https://countryside-church.org/events/bible-study--164/2026-1
 0-20
ATTACH;FILENAME=bible.jpg;FMTTYPE=image/jpeg:https://dq5pwpg1q8ru0.cloudfro
 nt.net/2025/09/22/13/11/34/47e3ab74-1315-4ce3-a263-3635c37b1940/bible.jpg
END:VEVENT
END:VCALENDAR
